BEGIN:VCALENDAR
VERSION:2.0
PRODID:-//Sonar Class Association - ECPv6.15.20//NONSGML v1.0//EN
CALSCALE:GREGORIAN
METHOD:PUBLISH
X-WR-CALNAME:Sonar Class Association
X-ORIGINAL-URL:https://sonar.org
X-WR-CALDESC:Events for Sonar Class Association
REFRESH-INTERVAL;VALUE=DURATION:PT1H
X-Robots-Tag:noindex
X-PUBLISHED-TTL:PT1H
BEGIN:VTIMEZONE
TZID:Asia/Karachi
BEGIN:STANDARD
TZOFFSETFROM:+0500
TZOFFSETTO:+0500
TZNAME:PKT
DTSTART:20230101T000000
END:STANDARD
END:VTIMEZONE
BEGIN:VEVENT
DTSTART;VALUE=DATE:20240216
DTEND;VALUE=DATE:20240219
DTSTAMP:20260425T050630
CREATED:20240208T175932Z
LAST-MODIFIED:20240208T175932Z
UID:1436-1708041600-1708300799@sonar.org
SUMMARY:Sonar Midwinters – Helly Hansen Sailing World Regatta – St. Petersburg
DESCRIPTION:Information and registration HERE.
URL:https://sonar.org/event/sonar-midwinters-helly-hansen-sailing-world-regatta-st-petersburg/
LOCATION:St. Petersburg Yacht Club\, 11 Central Avenue\, St. Petersburg\, 33701\, United States
CATEGORIES:Fleet Racing
END:VEVENT
END:VCALENDAR