BEGIN:VCALENDAR
VERSION:2.0
PRODID:-//Sonar Class Association - ECPv6.15.20//NONSGML v1.0//EN
CALSCALE:GREGORIAN
METHOD:PUBLISH
X-WR-CALNAME:Sonar Class Association
X-ORIGINAL-URL:https://sonar.org
X-WR-CALDESC:Events for Sonar Class Association
REFRESH-INTERVAL;VALUE=DURATION:PT1H
X-Robots-Tag:noindex
X-PUBLISHED-TTL:PT1H
BEGIN:VTIMEZONE
TZID:Asia/Karachi
BEGIN:STANDARD
TZOFFSETFROM:+0500
TZOFFSETTO:+0500
TZNAME:PKT
DTSTART:20180101T000000
END:STANDARD
END:VTIMEZONE
BEGIN:VEVENT
DTSTART;TZID=Asia/Karachi:20190427T080000
DTEND;TZID=Asia/Karachi:20190428T170000
DTSTAMP:20260424T140257
CREATED:20190129T031932Z
LAST-MODIFIED:20190129T031932Z
UID:487-1556352000-1556470800@sonar.org
SUMMARY: Texas Shoot-out (Masters)
DESCRIPTION:
URL:https://sonar.org/event/texas-shoot-out-masters/
LOCATION:Texas Corinthian Yacht Club\, 104 Park Cir\, Kemah\,\, TX\, 77565\, United States
CATEGORIES:Team Racing
END:VEVENT
BEGIN:VEVENT
DTSTART;VALUE=DATE:20190215
DTEND;VALUE=DATE:20190218
DTSTAMP:20260424T140257
CREATED:20181115T191753Z
LAST-MODIFIED:20181115T191753Z
UID:172-1550188800-1550447999@sonar.org
SUMMARY:Helly Hansen St. Petersburg (FL) NOOD Regatta
DESCRIPTION:This will be the Sonar Class Association’s 2019 Mid Winter Championship. Great sailing\, great venue\, great weather. \nOnline information and registration HERE.
URL:https://sonar.org/event/helly-hansen-st-petersburg-fl-nood-regatta/
LOCATION:St. Petersburg Yacht Club\, 11 Central Avenue\, St. Petersburg\, 33701\, United States
CATEGORIES:Class Fleet Racing,Class Sanctioned Events,Fleet Racing
END:VEVENT
END:VCALENDAR