BEGIN:VCALENDAR
VERSION:2.0
PRODID:-//Sonar Class Association - ECPv6.15.20//NONSGML v1.0//EN
CALSCALE:GREGORIAN
METHOD:PUBLISH
X-WR-CALNAME:Sonar Class Association
X-ORIGINAL-URL:https://sonar.org
X-WR-CALDESC:Events for Sonar Class Association
REFRESH-INTERVAL;VALUE=DURATION:PT1H
X-Robots-Tag:noindex
X-PUBLISHED-TTL:PT1H
BEGIN:VTIMEZONE
TZID:Asia/Karachi
BEGIN:STANDARD
TZOFFSETFROM:+0500
TZOFFSETTO:+0500
TZNAME:PKT
DTSTART:20180101T000000
END:STANDARD
END:VTIMEZONE
BEGIN:VEVENT
DTSTART;VALUE=DATE:20200627
DTEND;VALUE=DATE:20200629
DTSTAMP:20260424T020910
CREATED:20200526T152520Z
LAST-MODIFIED:20200526T153553Z
UID:735-1593216000-1593388799@sonar.org
SUMMARY:2020 Sonar Atlantic Coast Championship - Postponed
DESCRIPTION:Originally planned to begin June 27 at Noroton Yacht Club\, the OA has postponed indefinitely the 2020 ACC pending resolution of the pandemic and reopening of the CT area.
URL:https://sonar.org/event/2020-sonar-atlantic-coast-championship-postponed/
LOCATION:Noroton Yacht Club\, 23 Baywater Dr\, Darien\, CT\, 06820\, United States
CATEGORIES:Class Sanctioned Events,Fleet Racing
END:VEVENT
BEGIN:VEVENT
DTSTART;VALUE=DATE:20200214
DTEND;VALUE=DATE:20200217
DTSTAMP:20260424T020910
CREATED:20191224T194128Z
LAST-MODIFIED:20191224T194128Z
UID:708-1581638400-1581897599@sonar.org
SUMMARY:Sonar Mid-Winters and 2020 Helly Hansen St. Pete NOOD
DESCRIPTION:Hey Sonar Racers\, \nWe’re looking forward to kicking off the 2020 Helly Hansen NOOD season in St Pete\, Florida February 14-16. We had a good turn out last year and hope to get more boats on the line! \nBelow is the link to register or to see who is sailing.  We hope to see you there. Please let me know if you have any questions. Thanks! \nhttps://yachtscoring.com/event_scratch_sheet.cfm?eID=9671 \n  \nKelly Ferro \nEvent Assistant
URL:https://sonar.org/event/sonar-mid-winters-and-2020-helly-hansen-st-pete-nood/
LOCATION:St. Petersburg Yacht Club\, 11 Central Avenue\, St. Petersburg\, 33701\, United States
CATEGORIES:Class Fleet Racing,Fleet Racing
END:VEVENT
BEGIN:VEVENT
DTSTART;TZID=Asia/Karachi:20191026T080000
DTEND;TZID=Asia/Karachi:20191027T170000
DTSTAMP:20260424T020910
CREATED:20190129T033920Z
LAST-MODIFIED:20190129T033920Z
UID:513-1572076800-1572195600@sonar.org
SUMMARY:Halloween Regatta
DESCRIPTION:
URL:https://sonar.org/event/halloween-regatta/
LOCATION:Eastern Yacht Club\, 47 Foster St\, Marblehead\, MA\, 01945\, United States
CATEGORIES:Team Racing
END:VEVENT
BEGIN:VEVENT
DTSTART;TZID=Asia/Karachi:20191012T080000
DTEND;TZID=Asia/Karachi:20191014T170000
DTSTAMP:20260424T020910
CREATED:20190129T033812Z
LAST-MODIFIED:20190129T033812Z
UID:511-1570867200-1571072400@sonar.org
SUMMARY: Lee Trophy
DESCRIPTION:
URL:https://sonar.org/event/lee-trophy/
LOCATION:Seawanhaka Corinthian Yacht Club\, 314 Yacht\, Club Rd\, Oyster Bay\, NY\, 11771\, United States
CATEGORIES:Team Racing
ORGANIZER;CN="Prizcilla Constants":MAILTO:ptconstants@optonline.net
END:VEVENT
BEGIN:VEVENT
DTSTART;VALUE=DATE:20190927
DTEND;VALUE=DATE:20190930
DTSTAMP:20260424T020910
CREATED:20181115T194346Z
LAST-MODIFIED:20190722T215942Z
UID:187-1569542400-1569801599@sonar.org
SUMMARY:Midwest Women's Championship Regatta
DESCRIPTION:Last year’s Midwest Women’s Champs was an epic regatta that just happened to be sailed by women. Superb\, high-quality sailing with a touch of extra camaraderie thrown in for good measure. \nInformation and online registration are both available via the Wayzata Yacht Club Sonar Fleet #5 website.
URL:https://sonar.org/event/midwest-womens-championship-regatta/
LOCATION:Wayzata Yacht Club\, 1100 Eastman Lane\, Wayzata\, MN\, 55391\, United States
CATEGORIES:Class Fleet Racing,Class Sanctioned Events,Fleet Racing
END:VEVENT
BEGIN:VEVENT
DTSTART;VALUE=DATE:20190920
DTEND;VALUE=DATE:20190923
DTSTAMP:20260424T020910
CREATED:20190129T035000Z
LAST-MODIFIED:20190129T035000Z
UID:526-1568937600-1569196799@sonar.org
SUMMARY:Clagett/Oakcliff Match Race
DESCRIPTION:
URL:https://sonar.org/event/clagett-oakcliff-match-race/
LOCATION:The Waterfront Center\, 1 West End Ave\, Oyster Bah\, NY\, 11771\, United States
CATEGORIES:Two Sail
END:VEVENT
BEGIN:VEVENT
DTSTART;TZID=Asia/Karachi:20190917T080000
DTEND;TZID=Asia/Karachi:20190922T170000
DTSTAMP:20260424T020910
CREATED:20181115T195844Z
LAST-MODIFIED:20190728T145242Z
UID:189-1568707200-1569171600@sonar.org
SUMMARY:2019 Sonar Class World Championship
DESCRIPTION:The finest sailing on the Great Lakes next summer will be the Sonar Worlds at Rochester Yacht Club in upstate New York. Plans are already underway to make this a spectacular event and even charter boat opportunities are already in the workings. \nFor information or online registration\, click HERE.
URL:https://sonar.org/event/2019-sonar-class-world-championship/
LOCATION:Rochester Yacht Club\, 5555 St. Paul Blvd\, Rochester\, New York\, 14617\, United States
CATEGORIES:Class Fleet Racing,Class Sanctioned Events
END:VEVENT
BEGIN:VEVENT
DTSTART;TZID=Asia/Karachi:20190907T080000
DTEND;TZID=Asia/Karachi:20190915T170000
DTSTAMP:20260424T020910
CREATED:20190129T033704Z
LAST-MODIFIED:20190129T033704Z
UID:509-1567843200-1568566800@sonar.org
SUMMARY: Kirby Cup
DESCRIPTION:Eitehr 9/7-8 pr 9/14-15
URL:https://sonar.org/event/kirby-cup/
LOCATION:Noroton Yacht Club\, 23 Baywater Dr\, Darien\, CT\, 06820\, United States
CATEGORIES:Team Racing
END:VEVENT
BEGIN:VEVENT
DTSTART;TZID=Asia/Karachi:20190907T080000
DTEND;TZID=Asia/Karachi:20190908T170000
DTSTAMP:20260424T020910
CREATED:20190128T234036Z
LAST-MODIFIED:20190814T224718Z
UID:478-1567843200-1567962000@sonar.org
SUMMARY:Atlantic Coast Championship
DESCRIPTION:2019 Sonar Atlantic Coast Championships\nNoroton Yacht Club\, Darien\, CT\nSeptember 7-8\, 2019\nSCHEDULE\nSaturday\, 9/7: 0800 to 0900 Launching and Registration\n0915 Skipper’s Meeting\n0930 Harbor Start\n1030 First Warning Signal Comp\n1930 Competitor’s BBQ\nSunday\, 9/8: 1000 First Warning Signal\nNo Warning Signal will be made adter 1500 hours\nAwards to follow racing. \n  \n2019 Sonar ACCs NOR \nOnline Registration at Yacht Scoring \n  \nFURTHER INFORMATION\nKey contacts:\nGeneral Event Information:\nJohn Bainton\n203-249-5932\nbainton@me.com\nGeneral Club Information:\nWim Jessup\, Club Manager\n203-309-5763 ext. 801\ngeneralmanager@norotonyc.org\nConnor Brady\, Sailing Director\n203-309-5768 ext. 804\nsailingdirector@norotonyc.org \n 
URL:https://sonar.org/event/atlantic-coast-championship/
LOCATION:Noroton Yacht Club\, 23 Baywater Dr\, Darien\, CT\, 06820\, United States
CATEGORIES:Class Fleet Racing,Class Sanctioned Events
END:VEVENT
BEGIN:VEVENT
DTSTART;TZID=Asia/Karachi:20190906T080000
DTEND;TZID=Asia/Karachi:20190908T170000
DTSTAMP:20260424T020910
CREATED:20190128T234152Z
LAST-MODIFIED:20190821T170940Z
UID:481-1567756800-1567962000@sonar.org
SUMMARY: Star of the North Regatta (Midwest Championship)
DESCRIPTION:Wayzata Yacht Club is once again hosting the Sonar Midwest Championship\, racing on September 6\,7\, and 8.  Want more information?  Check out the WYC Sonar page.
URL:https://sonar.org/event/star-of-the-north-regatta-midwest-championship/
LOCATION:Wayzata Yacht Club\, 1100 Eastman Lane\, Wayzata\, MN\, 55391\, United States
CATEGORIES:Fleet Racing
END:VEVENT
BEGIN:VEVENT
DTSTART;TZID=Asia/Karachi:20190830T080000
DTEND;TZID=Asia/Karachi:20190901T170000
DTSTAMP:20260424T020910
CREATED:20190128T233753Z
LAST-MODIFIED:20190510T223242Z
UID:474-1567152000-1567357200@sonar.org
SUMMARY:Canadian National Championship
DESCRIPTION:
URL:https://sonar.org/event/canadian-national-championship/
LOCATION:Lunenburg Yacht Club\, 734 Herman's Island Road\, Lunenburg\, Nova Scotia\, B0J2C0\, Canada
CATEGORIES:Class Fleet Racing,Class Sanctioned Events
END:VEVENT
BEGIN:VEVENT
DTSTART;TZID=Asia/Karachi:20190823T080000
DTEND;TZID=Asia/Karachi:20190825T170000
DTSTAMP:20260424T020910
CREATED:20190129T033542Z
LAST-MODIFIED:20190129T033542Z
UID:507-1566547200-1566752400@sonar.org
SUMMARY:Grand Masters Invitational
DESCRIPTION:
URL:https://sonar.org/event/grand-masters-invitational/
LOCATION:New York Yacht Club\, 5 Halidon Ave.\, Newport\, RI\, 02840\, United States
CATEGORIES:Team Racing
ORGANIZER;CN="Beth Duggan":MAILTO:dugganb@nyyc.org
END:VEVENT
BEGIN:VEVENT
DTSTART;TZID=Asia/Karachi:20190823T080000
DTEND;TZID=Asia/Karachi:20190825T170000
DTSTAMP:20260424T020910
CREATED:20190128T233516Z
LAST-MODIFIED:20190510T221046Z
UID:471-1566547200-1566752400@sonar.org
SUMMARY:Manhasset Bay Race Week (Long Island Champs)
DESCRIPTION:NoR and online information will eventually be posted on Club Website.
URL:https://sonar.org/event/manhasset-bay-race-week-long-island-champs/
LOCATION:Manhasset Bay Yacht Club\, 455 Main Street\, Port Washington\, NY\, 11050\, United States
CATEGORIES:Class Fleet Racing,Class Sanctioned Events
END:VEVENT
BEGIN:VEVENT
DTSTART;TZID=Asia/Karachi:20190816T080000
DTEND;TZID=Asia/Karachi:20190818T170000
DTSTAMP:20260424T020910
CREATED:20190129T033445Z
LAST-MODIFIED:20190129T033445Z
UID:505-1565942400-1566147600@sonar.org
SUMMARY: Hinman Masters
DESCRIPTION:
URL:https://sonar.org/event/hinman-masters/
LOCATION:New York Yacht Club\, 5 Halidon Ave.\, Newport\, RI\, 02840\, United States
CATEGORIES:Team Racing
ORGANIZER;CN="Beth Duggan":MAILTO:dugganb@nyyc.org
END:VEVENT
BEGIN:VEVENT
DTSTART;VALUE=DATE:20190814
DTEND;VALUE=DATE:20190818
DTSTAMP:20260424T020910
CREATED:20190510T220922Z
LAST-MODIFIED:20190510T220922Z
UID:612-1565740800-1566086399@sonar.org
SUMMARY: Chester Race Week
DESCRIPTION:
URL:https://sonar.org/event/chester-race-week/
LOCATION:Chester Yacht Club\, Chester\, Nova Scotia\, Canada
END:VEVENT
BEGIN:VEVENT
DTSTART;TZID=Asia/Karachi:20190803T080000
DTEND;TZID=Asia/Karachi:20190804T170000
DTSTAMP:20260424T020910
CREATED:20190128T231944Z
LAST-MODIFIED:20190128T232000Z
UID:467-1564819200-1564938000@sonar.org
SUMMARY:Buzzards Bay Regatta
DESCRIPTION:
URL:https://sonar.org/event/buzzards-bay-regatta/
LOCATION:New Bedford Yacht Club\, 208 Elm Stree\, South Dartmouth\, AL\, 02748\, United States
CATEGORIES:Class Fleet Racing,Class Sanctioned Events
ORGANIZER;CN="William McCollum":MAILTO:info@buzzardsbayregatta.com
END:VEVENT
BEGIN:VEVENT
DTSTART;VALUE=DATE:20190725
DTEND;VALUE=DATE:20190729
DTSTAMP:20260424T020910
CREATED:20190129T034753Z
LAST-MODIFIED:20190129T034753Z
UID:524-1564012800-1564358399@sonar.org
SUMMARY:US Para Sailing Championship
DESCRIPTION:Event Pending
URL:https://sonar.org/event/us-para-sailing-championship/
LOCATION:Chicago Yacht Club\, 300 W. Belmont\, Chicago\, IL\, 60657\, United States
CATEGORIES:Two Sail
END:VEVENT
BEGIN:VEVENT
DTSTART;VALUE=DATE:20190725
DTEND;VALUE=DATE:20190729
DTSTAMP:20260424T020910
CREATED:20181115T194009Z
LAST-MODIFIED:20181115T194009Z
UID:185-1564012800-1564358399@sonar.org
SUMMARY:Helly Hansen Marblehead NOOD Regatta
DESCRIPTION:Who doesn’t like to race Sonars? \nWho doesn’t like to sail in Marblehead? \nWho doesn’t like going to Maddie’s for a bloody Mary???? \nWell\, it any of those things describe you\, you should make plans to go to the 2019 edition of the Helly Hansen Marblehead NOOD Regatta put on by\nSailing World Magazine. \nInformation and online registration HERE.
URL:https://sonar.org/event/helly-hansen-marblehead-nood-regatta/
LOCATION:Eastern Yacht Club\, 47 Foster St\, Marblehead\, MA\, 01945\, United States
CATEGORIES:Class Sanctioned Events,Fleet Racing
END:VEVENT
BEGIN:VEVENT
DTSTART;TZID=Asia/Karachi:20190713T080000
DTEND;TZID=Asia/Karachi:20190714T170000
DTSTAMP:20260424T020910
CREATED:20190129T032743Z
LAST-MODIFIED:20190129T032743Z
UID:497-1563004800-1563123600@sonar.org
SUMMARY:Corinthinan Young Guns
DESCRIPTION:
URL:https://sonar.org/event/corinthinan-young-guns/
LOCATION:Seawanhaka Corinthian Yacht Club\, 314 Yacht\, Club Rd\, Oyster Bay\, NY\, 11771\, United States
ORGANIZER;CN="Prizcilla Constants":MAILTO:ptconstants@optonline.net
END:VEVENT
BEGIN:VEVENT
DTSTART;TZID=Asia/Karachi:20190713T080000
DTEND;TZID=Asia/Karachi:20190714T170000
DTSTAMP:20260424T020910
CREATED:20190128T231623Z
LAST-MODIFIED:20190128T231623Z
UID:464-1563004800-1563123600@sonar.org
SUMMARY:Rochester Yacht Club One-design Regatta
DESCRIPTION:Dates tentative…check with RYC website to confirm.
URL:https://sonar.org/event/rochester-yacht-club-one-design-regatta/
LOCATION:Rochester Yacht Club\, 5555 St. Paul Blvd\, Rochester\, New York\, 14617\, United States
CATEGORIES:Class Fleet Racing
END:VEVENT
BEGIN:VEVENT
DTSTART;VALUE=DATE:20190713
DTEND;VALUE=DATE:20190715
DTSTAMP:20260424T020910
CREATED:20190510T220414Z
LAST-MODIFIED:20190510T220414Z
UID:610-1562976000-1563148799@sonar.org
SUMMARY:RYC One-Design Regatta
DESCRIPTION:
URL:https://sonar.org/event/ryc-one-design-regatta/
LOCATION:Rochester Yacht Club\, 5555 St. Paul Blvd\, Rochester\, New York\, 14617\, United States
END:VEVENT
BEGIN:VEVENT
DTSTART;TZID=Asia/Karachi:20190622T080000
DTEND;TZID=Asia/Karachi:20190623T170000
DTSTAMP:20260424T020910
CREATED:20190129T032847Z
LAST-MODIFIED:20190129T032847Z
UID:499-1561190400-1561309200@sonar.org
SUMMARY:Commodore Swan Cup
DESCRIPTION:
URL:https://sonar.org/event/commodore-swan-cup/
LOCATION:Seawanhaka Corinthian Yacht Club\, 314 Yacht\, Club Rd\, Oyster Bay\, NY\, 11771\, United States
CATEGORIES:Team Racing
ORGANIZER;CN="Prizcilla Constants":MAILTO:ptconstants@optonline.net
END:VEVENT
BEGIN:VEVENT
DTSTART;TZID=Asia/Karachi:20190618T080000
DTEND;TZID=Asia/Karachi:20190623T170000
DTSTAMP:20260424T020910
CREATED:20190129T034620Z
LAST-MODIFIED:20190129T034620Z
UID:520-1560844800-1561309200@sonar.org
SUMMARY:C. Thomas Clagett\, Jr. Memorial Clinic & Regatta
DESCRIPTION:
URL:https://sonar.org/event/c-thomas-clagett-jr-memorial-clinic-regatta/
LOCATION:Sail Newport\, 72 Fort Adams Dr\, Newport\, RI\, 02840\, United States
CATEGORIES:Two Sail
END:VEVENT
BEGIN:VEVENT
DTSTART;TZID=Asia/Karachi:20190615T080000
DTEND;TZID=Asia/Karachi:20190616T170000
DTSTAMP:20260424T020910
CREATED:20190129T034346Z
LAST-MODIFIED:20190129T034346Z
UID:517-1560585600-1560704400@sonar.org
SUMMARY:USMRC Qualifier - Chicago
DESCRIPTION:
URL:https://sonar.org/event/usmrc-qualifier-chicago/
LOCATION:Chicago Yacht Club\, 300 W. Belmont\, Chicago\, IL\, 60657\, United States
CATEGORIES:Match Racing
END:VEVENT
BEGIN:VEVENT
DTSTART;TZID=Asia/Karachi:20190615T080000
DTEND;TZID=Asia/Karachi:20190616T170000
DTSTAMP:20260424T020910
CREATED:20181115T192315Z
LAST-MODIFIED:20190131T162645Z
UID:175-1560585600-1560704400@sonar.org
SUMMARY:Tappan Zee Challenge Regatta
DESCRIPTION:Tappan Zee Challenge Regatta\nJune 15 & 16\nSpring will soon be upon us; the cold weather will be in full retreat and the 2019 sailing season will be on the horizon.    The Nyack Boat Club and Sonar Fleet 23 invite you to kick off the 2019 regatta season with what is traditionally the first regatta of the sailing season; the Tappan Zee Challenge Regatta.  This year\, our 20th TZC\, is June 15 & 16.    You will enjoy warm friendly hospitality\, reliable spring winds and the challenging currents of the scenic Hudson River. \nThe event is open to all competitors meeting Sonar Class Association eligibility requirements.  On regatta weekend\, NBC members will help launch Friday night and provide guest moorings for the weekend.  Registration is Saturday morning\, we will wrap up Sunday mid-afternoon.     The Notice of Race will soon to be posted at www.Nyackboatclub.org and https://sonar.org
URL:https://sonar.org/event/tappan-zee-challenge-regatta/
LOCATION:Nyack Boat Club\, 59 Gedney Street\, Nayack\, NY\, 10690\, United States
CATEGORIES:Class Fleet Racing,Class Sanctioned Events,Fleet Racing
END:VEVENT
BEGIN:VEVENT
DTSTART;TZID=Asia/Karachi:20190606T080000
DTEND;TZID=Asia/Karachi:20190607T170000
DTSTAMP:20260424T020910
CREATED:20190129T034031Z
LAST-MODIFIED:20190129T034031Z
UID:515-1559808000-1559926800@sonar.org
SUMMARY:USMRC Qualifier
DESCRIPTION:
URL:https://sonar.org/event/usmrc-qualifier/
LOCATION:Rochester Yacht Club\, 5555 St. Paul Blvd\, Rochester\, New York\, 14617\, United States
CATEGORIES:Match Racing
END:VEVENT
BEGIN:VEVENT
DTSTART;TZID=Asia/Karachi:20190531T080000
DTEND;TZID=Asia/Karachi:20190602T170000
DTSTAMP:20260424T020910
CREATED:20190128T231019Z
LAST-MODIFIED:20190326T131948Z
UID:458-1559289600-1559494800@sonar.org
SUMMARY: Southern Bay Race Week
DESCRIPTION:Host Clubs: Hampton Yacht Club (host club)\, Cruising Club of Virginia\, and Old Point\nComfort Yacht Club are the organizing authorities for this regatta. \nRegatta Chairman – Jack Pope Principal \nRace Officer – John McCarthy \nRules: The regatta will be governed by the rules as defined in The Racing Rules of\nSailing\, 2017-2020\, except as modified by the regatta Sailing Instructions. \nEntry Due: Friday\, May 24\, 2019 – Late Fee applies after May 24th\nEarly Bird Entry discount deadline – April 30th\n(Early Bird Entries also receive 10 free regatta drink tickets)\nEntry Fee: PHRF & ONE DESIGN FLEETS (Fri/Sat/Sun):\nEarly Bird = $155.\nEntries after April 30th = $170. \nSPECIAL LOYALTY DISCOUNT:\nAll 2018 SBRW returnees deduct $25 from each above fee.\nLATE FEE: Additional $25 for entries received after May 24th\nAll checks payable to SBRW (Southern Bay Race Week)\nSBRW is the best bang for your racing buck anywhere:\nSame low entry fees. \nLoyalty Discount and Early Bird Discount\nFREE – boat and trailer storage prior to the regatta\nFREE – launch and haul from any of HYC three lifts\nFREE – rafting for boats (or slips available at low cost)
URL:https://sonar.org/event/southern-bay-race-week/
LOCATION:Hampton Yacht Club\, 4707 Victoria Blvd\, Hampton\, VA\, 23669\, United States
CATEGORIES:Class Fleet Racing
ORGANIZER;CN="Lin MacCarthy":MAILTO:mcbear@earthlink.net
END:VEVENT
BEGIN:VEVENT
DTSTART;TZID=Asia/Karachi:20190518T080000
DTEND;TZID=Asia/Karachi:20190519T170000
DTSTAMP:20260424T020910
CREATED:20190129T032546Z
LAST-MODIFIED:20190129T032546Z
UID:493-1558166400-1558285200@sonar.org
SUMMARY: Oyster Bay Challenge (Masters)
DESCRIPTION:
URL:https://sonar.org/event/oyster-bay-challenge-masters/
LOCATION:Seawanhaka Corinthian Yacht Club\, 314 Yacht\, Club Rd\, Oyster Bay\, NY\, 11771\, United States
CATEGORIES:Team Racing
ORGANIZER;CN="Prizcilla Constants":MAILTO:ptconstants@optonline.net
END:VEVENT
BEGIN:VEVENT
DTSTART;TZID=Asia/Karachi:20190427T080000
DTEND;TZID=Asia/Karachi:20190428T170000
DTSTAMP:20260424T020910
CREATED:20190129T032150Z
LAST-MODIFIED:20190129T032150Z
UID:490-1556352000-1556470800@sonar.org
SUMMARY: Jackson Cup Invitational
DESCRIPTION:
URL:https://sonar.org/event/jackson-cup-invitational/
LOCATION:Boston Yacht Club\, 1 Front St\, Marblehead\, Marblehead\, MA\, 01945\, United States
CATEGORIES:Team Racing
END:VEVENT
BEGIN:VEVENT
DTSTART;TZID=Asia/Karachi:20190427T080000
DTEND;TZID=Asia/Karachi:20190428T170000
DTSTAMP:20260424T020910
CREATED:20190129T031932Z
LAST-MODIFIED:20190129T031932Z
UID:487-1556352000-1556470800@sonar.org
SUMMARY: Texas Shoot-out (Masters)
DESCRIPTION:
URL:https://sonar.org/event/texas-shoot-out-masters/
LOCATION:Texas Corinthian Yacht Club\, 104 Park Cir\, Kemah\,\, TX\, 77565\, United States
CATEGORIES:Team Racing
END:VEVENT
END:VCALENDAR