BEGIN:VCALENDAR
VERSION:2.0
PRODID:-//Sonar Class Association - ECPv6.15.20//NONSGML v1.0//EN
CALSCALE:GREGORIAN
METHOD:PUBLISH
X-ORIGINAL-URL:https://sonar.org
X-WR-CALDESC:Events for Sonar Class Association
REFRESH-INTERVAL;VALUE=DURATION:PT1H
X-Robots-Tag:noindex
X-PUBLISHED-TTL:PT1H
BEGIN:VTIMEZONE
TZID:Asia/Karachi
BEGIN:STANDARD
TZOFFSETFROM:+0500
TZOFFSETTO:+0500
TZNAME:PKT
DTSTART:20240101T000000
END:STANDARD
END:VTIMEZONE
BEGIN:VEVENT
DTSTART;VALUE=DATE:20270609
DTEND;VALUE=DATE:20270614
DTSTAMP:20260424T042359
CREATED:20250204T201359Z
LAST-MODIFIED:20250630T220301Z
UID:1465-1812499200-1812931199@sonar.org
SUMMARY:2027 Sonar North American Championship
DESCRIPTION:
URL:https://sonar.org/event/2027-sonar-north-american-championship/
LOCATION:Lake Sunapee Yacht Club\, 34 Stone End Rd\, Sunapee\, NH\, 03782\, United States
CATEGORIES:Class Fleet Racing,Class Sanctioned Events,Fleet Racing
END:VEVENT
BEGIN:VEVENT
DTSTART;TZID=Asia/Karachi:20260213T000000
DTEND;TZID=Asia/Karachi:20260215T000000
DTSTAMP:20260424T042359
CREATED:20260115T185517Z
LAST-MODIFIED:20260115T185517Z
UID:1471-1770940800-1771113600@sonar.org
SUMMARY:Sonar Midwinters – Helly Hansen Sailing World Regatta – St. Petersburg
DESCRIPTION:The 20 Sonar MidWinters will be held as part of the Helly Hansen Sailing World Regatta Series in St. Petersburg\, FL. Think warm weather sailing when most of the country will be shoveling snow.  \nHeading the charge for the Sonars in St. Pete is Paul Perry who is happy to report his Sonar survived the hurricanes just north at Davis Island Yacht Club. Paul reports that there are two of St. Pete YC’s Sonars that are available for charter and others may become available going forward. If you’re interested in chartering one of the St.PYC Sonars\, contact Paul at paulcperry3@gmail.com. \nInformation on the regatta HERE.
URL:https://sonar.org/event/sonar-midwinters-helly-hansen-sailing-world-regatta-st-petersburg-2/
END:VEVENT
BEGIN:VEVENT
DTSTART;VALUE=DATE:20260910
DTEND;VALUE=DATE:20260914
DTSTAMP:20260424T042359
CREATED:20250204T201238Z
LAST-MODIFIED:20250920T204917Z
UID:1463-1788998400-1789343999@sonar.org
SUMMARY:2026 Sonar Worlds Championship
DESCRIPTION:
URL:https://sonar.org/event/2026-sonar-worlds-championship/
LOCATION:Lunenburg Yacht Club\, 734 Herman's Island Road\, Lunenburg\, Nova Scotia\, B0J2C0\, Canada
CATEGORIES:Class Fleet Racing,Class Sanctioned Events,Fleet Racing
END:VEVENT
BEGIN:VEVENT
DTSTART;VALUE=DATE:20250901
DTEND;VALUE=DATE:20250904
DTSTAMP:20260424T042359
CREATED:20250204T201915Z
LAST-MODIFIED:20260115T185711Z
UID:1467-1756684800-1756943999@sonar.org
SUMMARY:2028 Sonar World Championship
DESCRIPTION:Actual regatta dates have yet to be confirmed.
URL:https://sonar.org/event/2028-sonar-world-championship/
LOCATION:Larchmont Yacht Club
END:VEVENT
END:VCALENDAR