BEGIN:VCALENDAR
VERSION:2.0
PRODID:-//Sonar Class Association - ECPv6.15.20//NONSGML v1.0//EN
CALSCALE:GREGORIAN
METHOD:PUBLISH
X-WR-CALNAME:Sonar Class Association
X-ORIGINAL-URL:https://sonar.org
X-WR-CALDESC:Events for Sonar Class Association
REFRESH-INTERVAL;VALUE=DURATION:PT1H
X-Robots-Tag:noindex
X-PUBLISHED-TTL:PT1H
BEGIN:VTIMEZONE
TZID:Asia/Karachi
BEGIN:STANDARD
TZOFFSETFROM:+0500
TZOFFSETTO:+0500
TZNAME:PKT
DTSTART:20220101T000000
END:STANDARD
END:VTIMEZONE
BEGIN:VEVENT
DTSTART;VALUE=DATE:20230914
DTEND;VALUE=DATE:20230918
DTSTAMP:20260425T203759
CREATED:20230404T135900Z
LAST-MODIFIED:20230813T165900Z
UID:989-1694649600-1694995199@sonar.org
SUMMARY:2023 Sonar North American Championship
DESCRIPTION:2023 Sonar North American Championship\nWayzata Yacht Club\, 1100 Eastman Lane\, Wayzata\, MN\n\n\nRegister today and mark your calendars! Sonar Fleet 5\, Wayzata Yacht Club\, and the Sonar Class Association are excited to invite you to sail with us at the 2023 Sonar North American Championship (NOR)\, held September 14-17\, 2023\, in Minnesota on Lake Minnetonka!  Register your boat today at http://na2023.sonar5.org and receive regatta updates or post photos. \n\n\nRead More
URL:https://sonar.org/event/989/
LOCATION:Wayzata Yacht Club\, 1100 Eastman Lane\, Wayzata\, MN\, 55391\, United States
CATEGORIES:Class Fleet Racing,Class Sanctioned Events,Fleet Racing
END:VEVENT
END:VCALENDAR